BEGIN:VCALENDAR
VERSION:2.0
PRODID:icalendar-ruby
CALSCALE:GREGORIAN
METHOD:PUBLISH
BEGIN:VEVENT
DTSTAMP:20260421T235721Z
UID:86-597433@stmartinlutheran.org
DTSTART:20260923T230000Z
DTEND:20260924T000000Z
CLASS:PUBLIC
CREATED:20260421T172704
DESCRIPTION:Choir Rehearsal
LAST-MODIFIED:20260421T172704
LOCATION:
SUMMARY:Choir Rehearsal
URL;VALUE=URI:https://www.stmartinlutheran.org/events/choir-rehearsal/2026-
 09-23
END:VEVENT
END:VCALENDAR
