BEGIN:VCALENDAR
VERSION:2.0
PRODID:icalendar-ruby
CALSCALE:GREGORIAN
METHOD:PUBLISH
BEGIN:VEVENT
DTSTAMP:20260421T222411Z
UID:86-597432@stmartinlutheran.org
DTSTART:20260916T230000Z
DTEND:20260917T000000Z
CLASS:PUBLIC
CREATED:20260421T172704
DESCRIPTION:Choir Rehearsal
LAST-MODIFIED:20260421T172704
LOCATION:
SUMMARY:Choir Rehearsal
URL;VALUE=URI:https://www.stmartinlutheran.org/events/choir-rehearsal/2026-
 09-16
END:VEVENT
END:VCALENDAR
