BEGIN:VCALENDAR
VERSION:2.0
PRODID:icalendar-ruby
CALSCALE:GREGORIAN
METHOD:PUBLISH
BEGIN:VEVENT
DTSTAMP:20260421T191540Z
UID:86-597060@stmartinlutheran.org
DTSTART:20260902T230000Z
DTEND:20260903T000000Z
CLASS:PUBLIC
CREATED:20260421T145010
DESCRIPTION:Choir Rehearsal
LAST-MODIFIED:20260421T145010
LOCATION:
SUMMARY:Choir Rehearsal
URL;VALUE=URI:https://www.stmartinlutheran.org/events/choir-rehearsal/2026-
 09-02
END:VEVENT
END:VCALENDAR
