BEGIN:VCALENDAR
VERSION:2.0
PRODID:icalendar-ruby
CALSCALE:GREGORIAN
METHOD:PUBLISH
BEGIN:VEVENT
DTSTAMP:20260421T132110Z
UID:86-595949@stmartinlutheran.org
DTSTART:20260805T230000Z
DTEND:20260806T000000Z
CLASS:PUBLIC
CREATED:20260421T065832
DESCRIPTION:Choir Rehearsal
LAST-MODIFIED:20260421T065832
LOCATION:
SUMMARY:Choir Rehearsal
URL;VALUE=URI:https://www.stmartinlutheran.org/events/choir-rehearsal/2026-
 08-05
END:VEVENT
END:VCALENDAR
