BEGIN:VCALENDAR
VERSION:2.0
PRODID:icalendar-ruby
CALSCALE:GREGORIAN
METHOD:PUBLISH
BEGIN:VEVENT
DTSTAMP:20260421T054012Z
UID:86-595575@stmartinlutheran.org
DTSTART:20260701T230000Z
DTEND:20260702T000000Z
CLASS:PUBLIC
CREATED:20260420T195227
DESCRIPTION:Choir Rehearsal
LAST-MODIFIED:20260420T195227
LOCATION:
SUMMARY:Choir Rehearsal
URL;VALUE=URI:https://www.stmartinlutheran.org/events/choir-rehearsal/2026-
 07-01
END:VEVENT
END:VCALENDAR
