BEGIN:VCALENDAR
VERSION:2.0
PRODID:icalendar-ruby
CALSCALE:GREGORIAN
METHOD:PUBLISH
BEGIN:VEVENT
DTSTAMP:20260421T040056Z
UID:86-595574@stmartinlutheran.org
DTSTART:20260624T230000Z
DTEND:20260625T000000Z
CLASS:PUBLIC
CREATED:20260420T195227
DESCRIPTION:Choir Rehearsal
LAST-MODIFIED:20260420T195227
LOCATION:
SUMMARY:Choir Rehearsal
URL;VALUE=URI:https://www.stmartinlutheran.org/events/choir-rehearsal/2026-
 06-24
END:VEVENT
END:VCALENDAR
